BEGIN:VCALENDAR
VERSION:2.0
PRODID:-//wp-events-plugin.com//7.2.3.1//EN
TZID:America/New_York
X-WR-TIMEZONE:America/New_York
BEGIN:VEVENT
UID:46@neffa.org
DTSTART;TZID=America/New_York:20241102T173000
DTEND;TZID=America/New_York:20241102T223000
DTSTAMP:20241014T173051Z
URL:https://www.neffa.org/events/celebration-of-dan-pearl/
SUMMARY:Celebration of Dan Pearl
DESCRIPTION:Come to this joyful memorial event to celebrate the life of Dan
  Pearl\, beloved caller and NEFFA organizer. Bring a potluck dish\, share 
 stories and remembrances\, and then enjoy dancing to the lively music of t
 he Moving Violations.\n\nSaturday\, Nov 2 at the Concord Scout House\n5:30
 -7:30 Potluck followed by remembrances and stories\nPlease bring a yummy d
 ish to share\, along with a note of your name and an ingredients list. Lab
 el your containers!\n\n7:30-10:30 Celebratory Contra and Square Dance\nLis
 a Greenleaf\, Dereck Kalish\, Chris Ricciotti\, and Sue Rosen\, Callers\nT
 he Moving Violations (Ron Grosslein\, Autumn-Rose Lester\, and Eric Eid-Re
 iner)
LOCATION:Concord Scout House\, 74 Walden St.\, Concord\, MA\, 01742\, Unite
 d States
X-APPLE-STRUCTURED-LOCATION;VALUE=URI;X-ADDRESS=74 Walden St.\, Concord\, M
 A\, 01742\, United States;X-APPLE-RADIUS=100;X-TITLE=Concord Scout House:g
 eo:0,0
END:VEVENT
BEGIN:VTIMEZONE
TZID:America/New_York
X-LIC-LOCATION:America/New_York
BEGIN:DAYLIGHT
DTSTART:20240310T030000
TZOFFSETFROM:-0500
TZOFFSETTO:-0400
TZNAME:EDT
END:DAYLIGHT
END:VTIMEZONE
END:VCALENDAR