BEGIN:VCALENDAR
VERSION:2.0
PRODID:-//wp-events-plugin.com//7.2.3.1//EN
TZID:America/New_York
X-WR-TIMEZONE:America/New_York
BEGIN:VEVENT
UID:70@neffa.org
DTSTART;TZID=America/New_York:20260424T000000
DTEND;TZID=America/New_York:20260426T000000
DTSTAMP:20260212T134913Z
URL:https://www.neffa.org/events/neffa-festival-2/
SUMMARY:NEFFA Festival
DESCRIPTION:
CATEGORIES:Festival
LOCATION:Best Western Royal Plaza and Trade Center\, 181 Boston Post Road W
 .\, Marlborough\, MA\, 01752\, United States
X-APPLE-STRUCTURED-LOCATION;VALUE=URI;X-ADDRESS=181 Boston Post Road W.\, M
 arlborough\, MA\, 01752\, United States;X-APPLE-RADIUS=100;X-TITLE=Best We
 stern Royal Plaza and Trade Center:geo:0,0
END:VEVENT
BEGIN:VTIMEZONE
TZID:America/New_York
X-LIC-LOCATION:America/New_York
BEGIN:DAYLIGHT
DTSTART:20260308T030000
TZOFFSETFROM:-0500
TZOFFSETTO:-0400
TZNAME:EDT
END:DAYLIGHT
END:VTIMEZONE
END:VCALENDAR