BEGIN:VCALENDAR
VERSION:2.0
PRODID:-//wp-events-plugin.com//7.2.3.1//EN
TZID:America/New_York
X-WR-TIMEZONE:America/New_York
BEGIN:VEVENT
UID:48@neffa.org
DTSTART;TZID=America/New_York;VALUE=DATE:20250425
DTEND;TZID=America/New_York;VALUE=DATE:20250428
DTSTAMP:20241207T172555Z
URL:https://www.neffa.org/events/neffa-festival/
SUMMARY:NEFFA Festival
DESCRIPTION:The 2025 Festival is on April 25-27. We will again be at the Be
 st Western Royal Plaza Hotel and Trade Center\, 181 Boston Post Road West\
 , Marlborough\, MA 01752.\n\nThe New England Folk Festival\, widely known 
 by the name NEFFA\, is an annual folk festival that blends dance\, music\,
  crafts\, and food from many places and cultures. 2025 is our 81st annual 
 Festival and we hope that you will join us! The Festival is run by the New
  England Folk Festival Association\, a cultural and educational\, voluntee
 r-run\, non-profit organization. The talent of our performers is also prov
 ided on a volunteer basis.\n\nhttps://www.neffa.org/festival-home/
CATEGORIES:Festival
LOCATION:Best Western Royal Plaza and Trade Center\, 181 Boston Post Road W
 .\, Marlborough\, MA\, 01752\, United States
X-APPLE-STRUCTURED-LOCATION;VALUE=URI;X-ADDRESS=181 Boston Post Road W.\, M
 arlborough\, MA\, 01752\, United States;X-APPLE-RADIUS=100;X-TITLE=Best We
 stern Royal Plaza and Trade Center:geo:0,0
END:VEVENT
BEGIN:VTIMEZONE
TZID:America/New_York
X-LIC-LOCATION:America/New_York
BEGIN:DAYLIGHT
DTSTART:20250309T030000
TZOFFSETFROM:-0500
TZOFFSETTO:-0400
TZNAME:EDT
END:DAYLIGHT
END:VTIMEZONE
END:VCALENDAR