BEGIN:VCALENDAR
VERSION:2.0
PRODID:-//wp-events-plugin.com//7.2.3.1//EN
TZID:America/New_York
X-WR-TIMEZONE:America/New_York
BEGIN:VEVENT
UID:76@neffa.org
DTSTART;TZID=America/New_York:20260521T193000
DTEND;TZID=America/New_York:20260521T220000
DTSTAMP:20260319T014633Z
URL:https://www.neffa.org/events/thursday-night-dance-dereck-kalish-and-jo
 y-factor/
SUMMARY:Thursday Night Contras: Dereck Kalish and Joy Factor
DESCRIPTION:Dereck Kalish and Joy Factor (Rebecca Weiss\, Gianna Marzilli E
 ricson\, and Henry Yoshimura)
CATEGORIES:Thursday Night Dance
LOCATION:Concord Scout House\, 74 Walden St.\, Concord\, MA\, 01742\, Unite
 d States
X-APPLE-STRUCTURED-LOCATION;VALUE=URI;X-ADDRESS=74 Walden St.\, Concord\, M
 A\, 01742\, United States;X-APPLE-RADIUS=100;X-TITLE=Concord Scout House:g
 eo:0,0
END:VEVENT
BEGIN:VTIMEZONE
TZID:America/New_York
X-LIC-LOCATION:America/New_York
BEGIN:DAYLIGHT
DTSTART:20260308T030000
TZOFFSETFROM:-0500
TZOFFSETTO:-0400
TZNAME:EDT
END:DAYLIGHT
END:VTIMEZONE
END:VCALENDAR