BEGIN:VCALENDAR
VERSION:2.0
PRODID:-//wp-events-plugin.com//7.2.3.1//EN
TZID:America/New_York
X-WR-TIMEZONE:America/New_York
BEGIN:VEVENT
UID:64@neffa.org
DTSTART;TZID=America/New_York:20251106T193000
DTEND;TZID=America/New_York:20251106T220000
DTSTAMP:20251018T175758Z
URL:https://www.neffa.org/events/thursday-night-dance-harris-lapiroff-with
 -the-nob-neffa-open-band/
SUMMARY:Thursday Night Dance: Harris Lapiroff with The NOB (Neffa Open Band
 )
DESCRIPTION:Harris Lapiroff with The NOB (Neffa Open Band)\; Julie Metcalf\
 , conductor – Come join the band! Please no percussion or amplifiers.
CATEGORIES:Thursday Night Dance
LOCATION:Concord Scout House\, 74 Walden St.\, Concord\, MA\, 01742\, Unite
 d States
X-APPLE-STRUCTURED-LOCATION;VALUE=URI;X-ADDRESS=74 Walden St.\, Concord\, M
 A\, 01742\, United States;X-APPLE-RADIUS=100;X-TITLE=Concord Scout House:g
 eo:0,0
END:VEVENT
BEGIN:VTIMEZONE
TZID:America/New_York
X-LIC-LOCATION:America/New_York
BEGIN:STANDARD
DTSTART:20251102T010000
TZOFFSETFROM:-0400
TZOFFSETTO:-0500
TZNAME:EST
END:STANDARD
END:VTIMEZONE
END:VCALENDAR